Package: ADImpute Version: 1.16.0 Command: /Library/Frameworks/R.framework/Resources/bin/R CMD INSTALL ADImpute StartedAt: 2025-02-03 17:40:54 -0500 (Mon, 03 Feb 2025) EndedAt: 2025-02-03 17:40:59 -0500 (Mon, 03 Feb 2025) EllapsedTime: 4.6 seconds RetCode: 0 Status: OK