Package: ADImpute Version: 1.16.0 Command: rm -rf ADImpute.buildbin-libdir && mkdir ADImpute.buildbin-libdir && F:\biocbuild\bbs-3.20-bioc\R\bin\R.exe CMD INSTALL --build --library=ADImpute.buildbin-libdir ADImpute_1.16.0.tar.gz StartedAt: 2025-02-04 07:55:38 -0500 (Tue, 04 Feb 2025) EndedAt: 2025-02-04 07:56:11 -0500 (Tue, 04 Feb 2025) EllapsedTime: 32.7 seconds RetCode: 0 Status: OK PackageFile: ADImpute_1.16.0.zip PackageFileSize: 2.301 MiB