Package: ADImpute Version: 1.16.0 Command: F:\biocbuild\bbs-3.20-bioc\R\bin\R.exe CMD INSTALL ADImpute StartedAt: 2025-02-03 16:32:45 -0500 (Mon, 03 Feb 2025) EndedAt: 2025-02-03 16:33:18 -0500 (Mon, 03 Feb 2025) EllapsedTime: 33.5 seconds RetCode: 0 Status: OK