Package: ADaCGH2
Version: 2.46.0
Maintainer: Ramon Diaz-Uriarte
MaintainerEmail: rdiaz02 at gmail.com
git_url: https://git.bioconductor.org/packages/ADaCGH2
git_branch: RELEASE_3_20
git_last_commit: 831a7a7
git_last_commit_date: 2024-10-29 09:35:07 -0500 (Tue, 29 Oct 2024)