Package: ADaCGH2
Version: 2.46.0
Command: /home/biocbuild/R/R/bin/R CMD check --install=check:ADaCGH2.install-out.txt --library=/home/biocbuild/R/R/site-library --no-vignettes --timings ADaCGH2_2.46.0.tar.gz
StartedAt: 2025-02-18 03:58:16 -0000 (Tue, 18 Feb 2025)
EndedAt: 2025-02-18 04:03:23 -0000 (Tue, 18 Feb 2025)
EllapsedTime: 306.8 seconds
RetCode: 0
Status: OK
CheckDir: ADaCGH2.Rcheck
Warnings: 0