Package: AGDEX Version: 1.54.0 Command: rm -rf AGDEX.buildbin-libdir && mkdir AGDEX.buildbin-libdir && /Users/biocbuild/BBS/utils/build-universal.sh AGDEX_1.54.0.tar.gz /Library/Frameworks/R.framework/Resources/bin/R AGDEX.buildbin-libdir StartedAt: 2025-02-05 14:44:23 -0500 (Wed, 05 Feb 2025) EndedAt: 2025-02-05 14:44:43 -0500 (Wed, 05 Feb 2025) EllapsedTime: 19.3 seconds RetCode: 0 Status: OK PackageFile: AGDEX_1.54.0.tgz PackageFileSize: 558.6 KiB