Package: AGDEX Version: 1.54.0 Command: /home/biocbuild/bbs-3.20-bioc/R/bin/R CMD build --keep-empty-dirs --no-resave-data --md5 AGDEX StartedAt: 2025-02-03 16:17:28 -0500 (Mon, 03 Feb 2025) EndedAt: 2025-02-03 16:17:56 -0500 (Mon, 03 Feb 2025) EllapsedTime: 28.0 seconds RetCode: 0 Status: OK PackageFile: AGDEX_1.54.0.tar.gz PackageFileSize: 488.8 KiB