Package: AGDEX Version: 1.54.0 Command: rm -rf AGDEX.buildbin-libdir && mkdir AGDEX.buildbin-libdir && F:\biocbuild\bbs-3.20-bioc\R\bin\R.exe CMD INSTALL --build --library=AGDEX.buildbin-libdir AGDEX_1.54.0.tar.gz StartedAt: 2025-02-04 07:56:19 -0500 (Tue, 04 Feb 2025) EndedAt: 2025-02-04 07:56:46 -0500 (Tue, 04 Feb 2025) EllapsedTime: 27.4 seconds RetCode: 0 Status: OK PackageFile: AGDEX_1.54.0.zip PackageFileSize: 562.9 KiB