Package: AGDEX Version: 1.54.0 Command: F:\biocbuild\bbs-3.20-bioc\R\bin\R.exe CMD check --no-multiarch --install=check:AGDEX.install-out.txt --library=F:\biocbuild\bbs-3.20-bioc\R\library --no-vignettes --timings AGDEX_1.54.0.tar.gz StartedAt: 2025-02-03 23:02:16 -0500 (Mon, 03 Feb 2025) EndedAt: 2025-02-03 23:03:40 -0500 (Mon, 03 Feb 2025) EllapsedTime: 83.3 seconds RetCode: 0 Status: OK CheckDir: AGDEX.Rcheck Warnings: 0