Package: AHMassBank Version: 1.6.0 Command: /Library/Frameworks/R.framework/Resources/bin/R CMD build --keep-empty-dirs --no-resave-data AHMassBank StartedAt: 2025-02-03 18:29:12 -0500 (Mon, 03 Feb 2025) EndedAt: 2025-02-03 18:30:21 -0500 (Mon, 03 Feb 2025) EllapsedTime: 68.6 seconds RetCode: 0 Status: OK PackageFile: AHMassBank_1.6.0.tar.gz PackageFileSize: 293.2 KiB