Package: AHMassBank Version: 1.6.0 Command: /Library/Frameworks/R.framework/Resources/bin/R CMD INSTALL AHMassBank StartedAt: 2025-02-03 16:26:45 -0500 (Mon, 03 Feb 2025) EndedAt: 2025-02-03 16:27:33 -0500 (Mon, 03 Feb 2025) EllapsedTime: 47.5 seconds RetCode: 0 Status: OK