Package: AHMassBank Version: 1.6.0 Command: /Library/Frameworks/R.framework/Resources/bin/R CMD INSTALL AHMassBank StartedAt: 2025-02-03 16:00:04 -0500 (Mon, 03 Feb 2025) EndedAt: 2025-02-03 16:01:27 -0500 (Mon, 03 Feb 2025) EllapsedTime: 82.4 seconds RetCode: 0 Status: OK