Package: AHMassBank
Version: 1.6.0
Command: /home/biocbuild/bbs-3.20-bioc/R/bin/R CMD check --install=check:AHMassBank.install-out.txt --library=/home/biocbuild/bbs-3.20-bioc/R/site-library --timings AHMassBank_1.6.0.tar.gz
StartedAt: 2025-02-17 19:44:00 -0500 (Mon, 17 Feb 2025)
EndedAt: 2025-02-17 19:48:11 -0500 (Mon, 17 Feb 2025)
EllapsedTime: 251.3 seconds
RetCode: 0
Status: OK
CheckDir: AHMassBank.Rcheck
Warnings: 0