Package: AIMS Version: 1.38.0 Command: /Library/Frameworks/R.framework/Resources/bin/R CMD build --keep-empty-dirs --no-resave-data AIMS StartedAt: 2025-02-03 18:30:19 -0500 (Mon, 03 Feb 2025) EndedAt: 2025-02-03 18:30:39 -0500 (Mon, 03 Feb 2025) EllapsedTime: 20.6 seconds RetCode: 0 Status: OK PackageFile: AIMS_1.38.0.tar.gz PackageFileSize: 484.4 KiB