Package: AIMS Version: 1.38.0 Command: /home/biocbuild/bbs-3.20-bioc/R/bin/R CMD check --install=check:AIMS.install-out.txt --library=/home/biocbuild/bbs-3.20-bioc/R/site-library --timings AIMS_1.38.0.tar.gz StartedAt: 2025-02-10 19:50:26 -0500 (Mon, 10 Feb 2025) EndedAt: 2025-02-10 19:51:02 -0500 (Mon, 10 Feb 2025) EllapsedTime: 36.0 seconds RetCode: 0 Status: OK CheckDir: AIMS.Rcheck Warnings: 0