Package: AIMS Version: 1.38.0 Command: chmod a+r AIMS -R && F:\biocbuild\bbs-3.20-bioc\R\bin\R.exe CMD build --keep-empty-dirs --no-resave-data AIMS StartedAt: 2025-02-10 17:19:52 -0500 (Mon, 10 Feb 2025) EndedAt: 2025-02-10 17:20:19 -0500 (Mon, 10 Feb 2025) EllapsedTime: 27.0 seconds RetCode: 0 Status: OK PackageFile: AIMS_1.38.0.tar.gz PackageFileSize: 486 KiB