Package: AIMS Version: 1.38.0 Command: /home/biocbuild/R/R/bin/R CMD build --keep-empty-dirs --no-resave-data AIMS StartedAt: 2025-02-03 21:33:15 -0000 (Mon, 03 Feb 2025) EndedAt: 2025-02-03 21:33:32 -0000 (Mon, 03 Feb 2025) EllapsedTime: 17.0 seconds RetCode: 0 Status: OK PackageFile: AIMS_1.38.0.tar.gz PackageFileSize: 482.5 KiB