Package: AIMS Version: 1.38.0 Command: /home/biocbuild/R/R/bin/R CMD check --install=check:AIMS.install-out.txt --library=/home/biocbuild/R/R/site-library --no-vignettes --timings AIMS_1.38.0.tar.gz StartedAt: 2025-02-04 04:14:06 -0000 (Tue, 04 Feb 2025) EndedAt: 2025-02-04 04:14:50 -0000 (Tue, 04 Feb 2025) EllapsedTime: 44.2 seconds RetCode: 0 Status: OK CheckDir: AIMS.Rcheck Warnings: 0