Package: ALDEx2 Version: 1.38.0 Command: /Library/Frameworks/R.framework/Resources/bin/R CMD build --keep-empty-dirs --no-resave-data ALDEx2 StartedAt: 2025-02-03 18:32:41 -0500 (Mon, 03 Feb 2025) EndedAt: 2025-02-03 18:34:25 -0500 (Mon, 03 Feb 2025) EllapsedTime: 103.7 seconds RetCode: 0 Status: OK PackageFile: ALDEx2_1.38.0.tar.gz PackageFileSize: 3.095 MiB