Package: ALDEx2 Version: 1.38.0 Command: /home/biocbuild/bbs-3.20-bioc/R/bin/R CMD build --keep-empty-dirs --no-resave-data --md5 ALDEx2 StartedAt: 2025-02-03 16:18:52 -0500 (Mon, 03 Feb 2025) EndedAt: 2025-02-03 16:20:42 -0500 (Mon, 03 Feb 2025) EllapsedTime: 110.1 seconds RetCode: 0 Status: OK PackageFile: ALDEx2_1.38.0.tar.gz PackageFileSize: 3.036 MiB