Package: ALDEx2
Version: 1.38.0
Command: /home/biocbuild/bbs-3.20-bioc/R/bin/R CMD check --install=check:ALDEx2.install-out.txt --library=/home/biocbuild/bbs-3.20-bioc/R/site-library --timings ALDEx2_1.38.0.tar.gz
StartedAt: 2025-02-17 19:45:36 -0500 (Mon, 17 Feb 2025)
EndedAt: 2025-02-17 19:50:47 -0500 (Mon, 17 Feb 2025)
EllapsedTime: 311.3 seconds
RetCode: 0
Status: OK
CheckDir: ALDEx2.Rcheck
Warnings: 0