Package: ALDEx2
Version: 1.38.0
Command: /home/biocbuild/bbs-3.20-bioc/R/bin/R CMD INSTALL ALDEx2
StartedAt: 2025-02-17 15:50:54 -0500 (Mon, 17 Feb 2025)
EndedAt: 2025-02-17 15:51:16 -0500 (Mon, 17 Feb 2025)
EllapsedTime: 22.2 seconds
RetCode: 0
Status: OK