Package: ALDEx2 Version: 1.38.0 Command: F:\biocbuild\bbs-3.20-bioc\R\bin\R.exe CMD INSTALL ALDEx2 StartedAt: 2025-02-03 16:29:04 -0500 (Mon, 03 Feb 2025) EndedAt: 2025-02-03 16:29:52 -0500 (Mon, 03 Feb 2025) EllapsedTime: 47.5 seconds RetCode: 0 Status: OK