Package: ALDEx2 Version: 1.38.0 Command: /home/biocbuild/R/R/bin/R CMD build --keep-empty-dirs --no-resave-data ALDEx2 StartedAt: 2025-02-03 21:34:28 -0000 (Mon, 03 Feb 2025) EndedAt: 2025-02-03 21:36:14 -0000 (Mon, 03 Feb 2025) EllapsedTime: 106.1 seconds RetCode: 1 Status: ERROR PackageFile: None PackageFileSize: NA