Package: AMARETTO Version: 1.22.0 Maintainer: Olivier Gevaert MaintainerEmail: olivier.gevaert at gmail.com git_url: https://git.bioconductor.org/packages/AMARETTO git_branch: RELEASE_3_20 git_last_commit: 8c7ba90 git_last_commit_date: 2024-10-29 10:35:36 -0500 (Tue, 29 Oct 2024)