Package: AMARETTO Version: 1.22.0 Command: rm -rf AMARETTO.buildbin-libdir && mkdir AMARETTO.buildbin-libdir && /Users/biocbuild/BBS/utils/build-universal.sh AMARETTO_1.22.0.tar.gz /Library/Frameworks/R.framework/Resources/bin/R AMARETTO.buildbin-libdir StartedAt: 2025-02-01 13:52:04 -0500 (Sat, 01 Feb 2025) EndedAt: 2025-02-01 13:52:49 -0500 (Sat, 01 Feb 2025) EllapsedTime: 45.5 seconds RetCode: 0 Status: OK PackageFile: AMARETTO_1.22.0.tgz PackageFileSize: 3.326 MiB