Package: AMARETTO Version: 1.22.0 Command: /Library/Frameworks/R.framework/Resources/bin/R CMD INSTALL AMARETTO StartedAt: 2025-01-30 17:12:41 -0500 (Thu, 30 Jan 2025) EndedAt: 2025-01-30 17:13:22 -0500 (Thu, 30 Jan 2025) EllapsedTime: 40.4 seconds RetCode: 0 Status: OK