Package: AMARETTO Version: 1.22.0 Command: rm -rf AMARETTO.buildbin-libdir && mkdir AMARETTO.buildbin-libdir && /Users/biocbuild/BBS/utils/build-universal.sh AMARETTO_1.22.0.tar.gz /Library/Frameworks/R.framework/Resources/bin/R AMARETTO.buildbin-libdir StartedAt: 2025-01-31 12:19:04 -0500 (Fri, 31 Jan 2025) EndedAt: 2025-01-31 12:20:23 -0500 (Fri, 31 Jan 2025) EllapsedTime: 78.7 seconds RetCode: 0 Status: OK PackageFile: AMARETTO_1.22.0.tgz PackageFileSize: 3.469 MiB