Package: AMARETTO Version: 1.22.0 Command: /Library/Frameworks/R.framework/Resources/bin/R CMD check --install=check:AMARETTO.install-out.txt --library=/Library/Frameworks/R.framework/Resources/library --no-vignettes --timings AMARETTO_1.22.0.tar.gz StartedAt: 2025-01-31 00:06:19 -0500 (Fri, 31 Jan 2025) EndedAt: 2025-01-31 00:15:54 -0500 (Fri, 31 Jan 2025) EllapsedTime: 575.9 seconds RetCode: 0 Status: WARNINGS CheckDir: AMARETTO.Rcheck Warnings: 1