Package: AMARETTO Version: 1.22.0 Command: /Library/Frameworks/R.framework/Resources/bin/R CMD INSTALL AMARETTO StartedAt: 2025-01-30 16:12:34 -0500 (Thu, 30 Jan 2025) EndedAt: 2025-01-30 16:13:52 -0500 (Thu, 30 Jan 2025) EllapsedTime: 77.2 seconds RetCode: 0 Status: OK