Package: AMARETTO Version: 1.22.0 Command: /home/biocbuild/R/R/bin/R CMD INSTALL AMARETTO StartedAt: 2025-01-30 20:49:04 -0000 (Thu, 30 Jan 2025) EndedAt: 2025-01-30 20:49:48 -0000 (Thu, 30 Jan 2025) EllapsedTime: 43.9 seconds RetCode: 0 Status: OK