Package: AMOUNTAIN
Version: 1.32.0
Command: /Library/Frameworks/R.framework/Resources/bin/R CMD build --keep-empty-dirs --no-resave-data AMOUNTAIN
StartedAt: 2024-11-08 15:55:21 -0500 (Fri, 08 Nov 2024)
EndedAt: 2024-11-08 15:55:28 -0500 (Fri, 08 Nov 2024)
EllapsedTime: 7.1 seconds
RetCode: 0
Status: OK
PackageFile: AMOUNTAIN_1.32.0.tar.gz
PackageFileSize: 1.83 <A href="http://en.wikipedia.org/wiki/MiB" target="_blank">MiB</A>