Package: AMOUNTAIN Version: 1.32.0 Command: /Library/Frameworks/R.framework/Resources/bin/R CMD build --keep-empty-dirs --no-resave-data AMOUNTAIN StartedAt: 2025-02-03 17:01:33 -0500 (Mon, 03 Feb 2025) EndedAt: 2025-02-03 17:02:07 -0500 (Mon, 03 Feb 2025) EllapsedTime: 34.4 seconds RetCode: 0 Status: OK PackageFile: AMOUNTAIN_1.32.0.tar.gz PackageFileSize: 1.745 MiB