Package: AMOUNTAIN Version: 1.32.0 Command: /home/biocbuild/bbs-3.20-bioc/R/bin/R CMD build --keep-empty-dirs --no-resave-data --md5 AMOUNTAIN StartedAt: 2025-02-03 16:19:09 -0500 (Mon, 03 Feb 2025) EndedAt: 2025-02-03 16:19:25 -0500 (Mon, 03 Feb 2025) EllapsedTime: 16.0 seconds RetCode: 0 Status: OK PackageFile: AMOUNTAIN_1.32.0.tar.gz PackageFileSize: 1.63 MiB