Package: AMOUNTAIN Version: 1.32.0 Command: rm -rf AMOUNTAIN.buildbin-libdir && mkdir AMOUNTAIN.buildbin-libdir && F:\biocbuild\bbs-3.20-bioc\R\bin\R.exe CMD INSTALL --build --library=AMOUNTAIN.buildbin-libdir AMOUNTAIN_1.32.0.tar.gz StartedAt: 2025-02-04 07:57:29 -0500 (Tue, 04 Feb 2025) EndedAt: 2025-02-04 07:57:50 -0500 (Tue, 04 Feb 2025) EllapsedTime: 21.0 seconds RetCode: 0 Status: OK PackageFile: AMOUNTAIN_1.32.0.zip PackageFileSize: 1.173 MiB