Package: AMOUNTAIN Version: 1.32.0 Command: chmod a+r AMOUNTAIN -R && F:\biocbuild\bbs-3.20-bioc\R\bin\R.exe CMD build --keep-empty-dirs --no-resave-data AMOUNTAIN StartedAt: 2025-02-03 17:27:55 -0500 (Mon, 03 Feb 2025) EndedAt: 2025-02-03 17:28:33 -0500 (Mon, 03 Feb 2025) EllapsedTime: 37.8 seconds RetCode: 0 Status: OK PackageFile: AMOUNTAIN_1.32.0.tar.gz PackageFileSize: 1.127 MiB