Package: AMOUNTAIN Version: 1.32.0 Command: F:\biocbuild\bbs-3.20-bioc\R\bin\R.exe CMD check --no-multiarch --install=check:AMOUNTAIN.install-out.txt --library=F:\biocbuild\bbs-3.20-bioc\R\library --no-vignettes --timings AMOUNTAIN_1.32.0.tar.gz StartedAt: 2025-02-03 23:05:58 -0500 (Mon, 03 Feb 2025) EndedAt: 2025-02-03 23:06:34 -0500 (Mon, 03 Feb 2025) EllapsedTime: 35.9 seconds RetCode: 0 Status: OK CheckDir: AMOUNTAIN.Rcheck Warnings: 0