Package: AMOUNTAIN Version: 1.32.0 Command: /home/biocbuild/R/R/bin/R CMD build --keep-empty-dirs --no-resave-data AMOUNTAIN StartedAt: 2025-02-03 21:34:57 -0000 (Mon, 03 Feb 2025) EndedAt: 2025-02-03 21:35:16 -0000 (Mon, 03 Feb 2025) EllapsedTime: 19.0 seconds RetCode: 0 Status: OK PackageFile: AMOUNTAIN_1.32.0.tar.gz PackageFileSize: 805.1 KiB