Package: ANCOMBC Version: 2.8.1 Command: /Library/Frameworks/R.framework/Resources/bin/R CMD check --install=check:ANCOMBC.install-out.txt --library=/Library/Frameworks/R.framework/Resources/library --no-vignettes --timings ANCOMBC_2.8.1.tar.gz StartedAt: 2025-02-03 23:37:36 -0500 (Mon, 03 Feb 2025) EndedAt: 2025-02-03 23:47:41 -0500 (Mon, 03 Feb 2025) EllapsedTime: 605.1 seconds RetCode: 0 Status: OK CheckDir: ANCOMBC.Rcheck Warnings: 0