Package: ANCOMBC Version: 2.8.1 Command: /home/biocbuild/bbs-3.20-bioc/R/bin/R CMD build --keep-empty-dirs --no-resave-data --md5 ANCOMBC StartedAt: 2025-02-03 16:19:13 -0500 (Mon, 03 Feb 2025) EndedAt: 2025-02-03 16:27:44 -0500 (Mon, 03 Feb 2025) EllapsedTime: 510.5 seconds RetCode: 0 Status: OK PackageFile: ANCOMBC_2.8.1.tar.gz PackageFileSize: 1.245 MiB