Package: ANCOMBC Version: 2.8.1 Command: /home/biocbuild/bbs-3.20-bioc/R/bin/R CMD INSTALL ANCOMBC StartedAt: 2025-02-03 15:53:11 -0500 (Mon, 03 Feb 2025) EndedAt: 2025-02-03 15:53:33 -0500 (Mon, 03 Feb 2025) EllapsedTime: 21.5 seconds RetCode: 0 Status: OK