Package: ANCOMBC Version: 2.8.1 Command: /home/biocbuild/R/R/bin/R CMD check --install=check:ANCOMBC.install-out.txt --library=/home/biocbuild/R/R/site-library --no-vignettes --timings ANCOMBC_2.8.1.tar.gz StartedAt: 2025-02-11 03:41:19 -0000 (Tue, 11 Feb 2025) EndedAt: 2025-02-11 03:47:03 -0000 (Tue, 11 Feb 2025) EllapsedTime: 343.5 seconds RetCode: 0 Status: OK CheckDir: ANCOMBC.Rcheck Warnings: 0