Package: ANF Version: 1.28.0 Command: /Library/Frameworks/R.framework/Resources/bin/R CMD INSTALL ANF StartedAt: 2025-01-30 17:37:31 -0500 (Thu, 30 Jan 2025) EndedAt: 2025-01-30 17:37:38 -0500 (Thu, 30 Jan 2025) EllapsedTime: 7.3 seconds RetCode: 0 Status: OK