Package: ANF Version: 1.28.0 Command: /Library/Frameworks/R.framework/Resources/bin/R CMD check --install=check:ANF.install-out.txt --library=/Library/Frameworks/R.framework/Resources/library --no-vignettes --timings ANF_1.28.0.tar.gz StartedAt: 2025-01-31 00:07:26 -0500 (Fri, 31 Jan 2025) EndedAt: 2025-01-31 00:11:01 -0500 (Fri, 31 Jan 2025) EllapsedTime: 214.5 seconds RetCode: 0 Status: OK CheckDir: ANF.Rcheck Warnings: 0