Package: ANF Version: 1.28.0 Command: /Library/Frameworks/R.framework/Resources/bin/R CMD INSTALL ANF StartedAt: 2025-02-03 16:29:06 -0500 (Mon, 03 Feb 2025) EndedAt: 2025-02-03 16:29:20 -0500 (Mon, 03 Feb 2025) EllapsedTime: 14.6 seconds RetCode: 0 Status: OK