Package: ANF Version: 1.28.0 Command: /home/biocbuild/R/R/bin/R CMD build --keep-empty-dirs --no-resave-data ANF StartedAt: 2025-01-30 21:30:29 -0000 (Thu, 30 Jan 2025) EndedAt: 2025-01-30 22:10:30 -0000 (Thu, 30 Jan 2025) EllapsedTime: 2400.7 seconds RetCode: None Status: TIMEOUT PackageFile: None PackageFileSize: NA