Package: ANF Version: 1.28.0 Command: /home/biocbuild/R/R/bin/R CMD INSTALL ANF StartedAt: 2025-02-03 21:11:38 -0000 (Mon, 03 Feb 2025) EndedAt: 2025-02-03 21:11:46 -0000 (Mon, 03 Feb 2025) EllapsedTime: 7.6 seconds RetCode: 0 Status: OK