Package: APAlyzer Version: 1.20.0 Command: rm -rf APAlyzer.buildbin-libdir && mkdir APAlyzer.buildbin-libdir && /Users/biocbuild/BBS/utils/build-universal.sh APAlyzer_1.20.0.tar.gz /Library/Frameworks/R.framework/Resources/bin/R APAlyzer.buildbin-libdir StartedAt: 2025-02-05 14:48:47 -0500 (Wed, 05 Feb 2025) EndedAt: 2025-02-05 14:49:43 -0500 (Wed, 05 Feb 2025) EllapsedTime: 55.7 seconds RetCode: 0 Status: OK PackageFile: APAlyzer_1.20.0.tgz PackageFileSize: 4.045 MiB