Package: APAlyzer Version: 1.20.0 Command: /home/biocbuild/bbs-3.20-bioc/R/bin/R CMD build --keep-empty-dirs --no-resave-data --md5 APAlyzer StartedAt: 2025-02-03 16:20:49 -0500 (Mon, 03 Feb 2025) EndedAt: 2025-02-03 16:22:32 -0500 (Mon, 03 Feb 2025) EllapsedTime: 103.1 seconds RetCode: 0 Status: OK PackageFile: APAlyzer_1.20.0.tar.gz PackageFileSize: 3.919 MiB