Package: APAlyzer
Version: 1.19.0
Command: C:\Users\biocbuild\bbs-3.20-bioc\R\bin\R.exe CMD check --no-multiarch --install=check:APAlyzer.install-out.txt --library=C:\Users\biocbuild\bbs-3.20-bioc\R\library --no-vignettes --timings APAlyzer_1.19.0.tar.gz
StartedAt: 2024-07-15 21:45:37 -0400 (Mon, 15 Jul 2024)
EndedAt: 2024-07-15 21:59:00 -0400 (Mon, 15 Jul 2024)
EllapsedTime: 802.8 seconds
RetCode: 0
Status: WARNINGS
CheckDir: APAlyzer.Rcheck
Warnings: 1